BEGIN:VCALENDAR
VERSION:2.0
PRODID:-//Plas y Brenin - ECPv6.15.12.2//NONSGML v1.0//EN
CALSCALE:GREGORIAN
METHOD:PUBLISH
X-WR-CALNAME:Plas y Brenin
X-ORIGINAL-URL:https://pyb.co.uk
X-WR-CALDESC:Events for Plas y Brenin
REFRESH-INTERVAL;VALUE=DURATION:PT1H
X-Robots-Tag:noindex
X-PUBLISHED-TTL:PT1H
BEGIN:VTIMEZONE
TZID:Europe/London
BEGIN:DAYLIGHT
TZOFFSETFROM:+0000
TZOFFSETTO:+0100
TZNAME:BST
DTSTART:20250330T010000
END:DAYLIGHT
BEGIN:STANDARD
TZOFFSETFROM:+0100
TZOFFSETTO:+0000
TZNAME:GMT
DTSTART:20251026T010000
END:STANDARD
BEGIN:DAYLIGHT
TZOFFSETFROM:+0000
TZOFFSETTO:+0100
TZNAME:BST
DTSTART:20260329T010000
END:DAYLIGHT
BEGIN:STANDARD
TZOFFSETFROM:+0100
TZOFFSETTO:+0000
TZNAME:GMT
DTSTART:20261025T010000
END:STANDARD
BEGIN:DAYLIGHT
TZOFFSETFROM:+0000
TZOFFSETTO:+0100
TZNAME:BST
DTSTART:20270328T010000
END:DAYLIGHT
BEGIN:STANDARD
TZOFFSETFROM:+0100
TZOFFSETTO:+0000
TZNAME:GMT
DTSTART:20271031T010000
END:STANDARD
END:VTIMEZONE
BEGIN:VEVENT
DTSTART;TZID=Europe/London:20260508T170000
DTEND;TZID=Europe/London:20260510T170000
DTSTAMP:20260421T110514
CREATED:20251103T134741Z
LAST-MODIFIED:20260209T084439Z
UID:95188-1778259600-1778432400@pyb.co.uk
SUMMARY:ShePaddles Cymru 2026. Booking now!
DESCRIPTION:#ShePaddles Cymru is a welcoming and inspiring women-focused paddlesports weekend held right here in the heart of Eryri\, in collaboration with Paddle Cymru. The aim of the event is to bring women together to try\, learn\, and develop skills in paddling\, whether you’re a complete beginner or already have experience on the water. \nAlways a popular event\, book your place now while places are still available. \nBOOK HERE \nAlternatively\, use the form below to request further information and keep up-to-date with the latest news.
URL:https://pyb.co.uk/event/shepaddles-2026-save-the-date/
LOCATION:Plas y Brenin – National Outdoor Centre\, Plas y Brenin National Outdoor Centre\, Capel Curig\, Wales\, LL24 0ET\, United Kingdom
CATEGORIES:Paddle
ATTACH;FMTTYPE=image/jpeg:https://pyb.co.uk/wp-content/uploads/2025/11/SP26-events.jpg
END:VEVENT
BEGIN:VEVENT
DTSTART;TZID=Europe/London:20260404T200000
DTEND;TZID=Europe/London:20260404T220000
DTSTAMP:20260421T110514
CREATED:20260306T085635Z
LAST-MODIFIED:20260306T085635Z
UID:96917-1775332800-1775340000@pyb.co.uk
SUMMARY:Johnny Dawes Unravels
DESCRIPTION:An evening with Johnny Dawes – one of the most beloved heroes of the UK climbing scene. \nThis talk promises to be a fun and engaging glimpse into Johnny’s experiences as a true pioneer of modern climbing\, from mind-boggling first ascents and bold run-outs to the nuances of technical mastery. \nJohnny will also be sharing stories of his most recent climbs and reading excerpts from his current work-in-progress. \nCome and join us for a truly memorable evening. \nBOOK HERE
URL:https://pyb.co.uk/event/johnny-dawes-unravels/
LOCATION:Plas y Brenin – National Outdoor Centre\, Plas y Brenin National Outdoor Centre\, Capel Curig\, Wales\, LL24 0ET\, United Kingdom
CATEGORIES:Lectures
ATTACH;FMTTYPE=image/jpeg:https://pyb.co.uk/wp-content/uploads/2026/03/6a5d0669-b1b6-4b22-bb97-50a94f8ca369.jpg
END:VEVENT
BEGIN:VEVENT
DTSTART;TZID=Europe/London:20260321T190000
DTEND;TZID=Europe/London:20260321T210000
DTSTAMP:20260421T110514
CREATED:20260203T111518Z
LAST-MODIFIED:20260203T111621Z
UID:96713-1774119600-1774126800@pyb.co.uk
SUMMARY:Brit Rock Film Tour
DESCRIPTION:The BritRock Film Tour is back and we’ve lined up the very best new climbing and adventure films from the UK — epic ascents\, big laughs and gripping stories that’ll leave you buzzing for your next adventure. BritRock brings together world-class athletes and everyday questers alike. Grab your mates\, grab a seat\, and get ready for a night of pure climbing inspiration. \nBOOK HERE
URL:https://pyb.co.uk/event/brit-rock-film-tour-2/
LOCATION:Plas y Brenin – National Outdoor Centre\, Plas y Brenin National Outdoor Centre\, Capel Curig\, Wales\, LL24 0ET\, United Kingdom
CATEGORIES:Film
ATTACH;FMTTYPE=image/jpeg:https://pyb.co.uk/wp-content/uploads/2026/02/BritRockFeb2026.jpg
END:VEVENT
END:VCALENDAR