BEGIN:VCALENDAR
VERSION:2.0
PRODID:-//Plas y Brenin - ECPv6.15.12.2//NONSGML v1.0//EN
CALSCALE:GREGORIAN
METHOD:PUBLISH
X-WR-CALNAME:Plas y Brenin
X-ORIGINAL-URL:https://pyb.co.uk
X-WR-CALDESC:Events for Plas y Brenin
REFRESH-INTERVAL;VALUE=DURATION:PT1H
X-Robots-Tag:noindex
X-PUBLISHED-TTL:PT1H
BEGIN:VTIMEZONE
TZID:Europe/London
BEGIN:DAYLIGHT
TZOFFSETFROM:+0000
TZOFFSETTO:+0100
TZNAME:BST
DTSTART:20250330T010000
END:DAYLIGHT
BEGIN:STANDARD
TZOFFSETFROM:+0100
TZOFFSETTO:+0000
TZNAME:GMT
DTSTART:20251026T010000
END:STANDARD
BEGIN:DAYLIGHT
TZOFFSETFROM:+0000
TZOFFSETTO:+0100
TZNAME:BST
DTSTART:20260329T010000
END:DAYLIGHT
BEGIN:STANDARD
TZOFFSETFROM:+0100
TZOFFSETTO:+0000
TZNAME:GMT
DTSTART:20261025T010000
END:STANDARD
BEGIN:DAYLIGHT
TZOFFSETFROM:+0000
TZOFFSETTO:+0100
TZNAME:BST
DTSTART:20270328T010000
END:DAYLIGHT
BEGIN:STANDARD
TZOFFSETFROM:+0100
TZOFFSETTO:+0000
TZNAME:GMT
DTSTART:20271031T010000
END:STANDARD
END:VTIMEZONE
BEGIN:VEVENT
DTSTART;TZID=Europe/London:20261031T090000
DTEND;TZID=Europe/London:20261101T170000
DTSTAMP:20260421T222444
CREATED:20260112T093640Z
LAST-MODIFIED:20260313T080220Z
UID:95904-1793437200-1793552400@pyb.co.uk
SUMMARY:Expedition Symposium 2026
DESCRIPTION:Save the date! \nTaking place at Plas y Brenin\, the National Outdoor Centre in North Wales\, the 2026 Expedition Symposium is designed to provide you with everything you need to know in order to plan\, fund and carry out your first expedition. \nOver the weekend\, workshops will cover every aspect of the expedition experience\, from team selection and interpersonal dynamics to first aid\, equipment choice and grant applications. \nAlongside the workshops will be several talks by experienced expeditioners to help provide a little extra inspiration for your own adventures. \n 
URL:https://pyb.co.uk/event/expedition-symposium-2026/
LOCATION:Wales
CATEGORIES:Symposium
ATTACH;FMTTYPE=image/jpeg:https://pyb.co.uk/wp-content/uploads/2026/01/2026-banner-2.jpg
END:VEVENT
END:VCALENDAR